BEGIN:VCALENDAR
X-LOTUS-CHARSET:UTF-8
VERSION:2.0
PRODID:-//Lotus Development Corporation//NONSGML Notes 14.5//EN_C
BEGIN:VTIMEZONE
TZID:Central Standard Time
BEGIN:STANDARD
DTSTART:19501105T020000
TZOFFSETFROM:-0500
TZOFFSETTO:-0600
RRULE:FREQ=YEARLY;BYMINUTE=0;BYHOUR=2;BYDAY=1SU;BYMONTH=11
END:STANDARD
BEGIN:DAYLIGHT
DTSTART:19500312T020000
TZOFFSETFROM:-0600
TZOFFSETTO:-0500
RRULE:FREQ=YEARLY;BYMINUTE=0;BYHOUR=2;BYDAY=2SU;BYMONTH=3
END:DAYLIGHT
END:VTIMEZONE
BEGIN:VEVENT
DTSTART;TZID=Central Standard Time:20260424T114500
DTEND;TZID=Central Standard Time:20260424T133000
TRANSP:OPAQUE
LAST-MODIFIED:20260412T221934Z
DTSTAMP:20260412T222523Z
SEQUENCE:0
CLASS:PUBLIC
DESCRIPTION:Join TAG Austin for an insightful lunchtime talk with Rich
 ard Amato\, Executive Director of the Austin Technology Incubator (ATI
 ) — the longest-running technology incubator in the United States.\n
 \nATI has been a cornerstone of Austin’s innovation ecosystem for ov
 er 35 years. ATI empowers university researchers\, student entrepreneu
 rs\, and community founders to commercialize breakthrough deep tech in
 novations that tackle global challenges in sustainability\, energy\, h
 ealthcare\, mobility\, water\, agtech\, and more. 
SUMMARY:TAG April 24\, 2026 - Austin Technology Incubator w/ Richard A
 mato Executive Director
LOCATION:Austin Technology Incubator Headquarters 2815 San Gabriel Str
 eet\, Austin\, TX 78705 (On-site parking lot + ample free street parki
 ng available)
UID:8B568D054E66459B86258DD7007A79B9-Lotus_Notes_Generated
X-LOTUS-UPDATE-SEQ:1
X-LOTUS-UPDATE-WISL:$S:1;$L:1;$B:1;$R:1;$E:1;$W:1;$O:1;$M:1;RequiredAttendees:1;INetRequiredNames:1;AltRequiredNames:1;StorageRequiredNames:1;OptionalAttendees:1;INetOptionalNames:1;AltOptionalNames:1;StorageOptionalNames:1;ApptUNIDURL:1;STUnyteConferenceURL:1;STUnyteConferenceID:1;SametimeType:1;WhiteBoardContent:1;STRoomName:1;$ECPAllowedItems:1
X-LOTUS-NOTESVERSION:2
X-LOTUS-APPTTYPE:0
X-LOTUS-CHILD-UID:8B568D054E66459B86258DD7007A79B9
END:VEVENT
END:VCALENDAR
